BEGIN:VCALENDAR
VERSION:2.0
PRODID:-//ილიაუნის თეატრი - ECPv4.7.4//NONSGML v1.0//EN
CALSCALE:GREGORIAN
METHOD:PUBLISH
X-WR-CALNAME:ილიაუნის თეატრი
X-ORIGINAL-URL:https://iliaunitheatre.ge
X-WR-CALDESC:Events for ილიაუნის თეატრი
BEGIN:VEVENT
DTSTART;TZID=UTC+4:20230603T200000
DTEND;TZID=UTC+4:20230603T200000
DTSTAMP:20260421T032614
CREATED:20230529T112422Z
LAST-MODIFIED:20230529T112422Z
UID:15048-1685822400-1685822400@iliaunitheatre.ge
SUMMARY:ციცქნა გოლიათი
DESCRIPTION:ირაკლი სამსონაძე\, რეჟისორი: ანა გოგიშვილი\n  \n  \n  \n  \n  \n  \n  \nარცთუ სასაცილო კომედია 1 მოქმედებად \nშეგვიძლია წარსულის ბოლომდე დავიწყება? რა მოხდება მომავალში\, თუ მთავარ ღირებულებებზე ვიტყვით უარს? რა გვემართება\, როცა ომს ვუცხადებთ წარსულს\, აწმყოს და ბუნდოვან მომავლს? გვავიწყდება ბავშვობა\, სოფელი\, სადაც გავიზარდეთ\, ბაბუა\, რომელიც ყალიონს აბოლებდა\, და ყალიონი\, რომელიც ჩვენს მეხსიერებაში თანდათანობით იფერფლება? იქნებ იცოდეთ\, რით ვუშველოთ ჩვენს შვილს\, “ციცქნა გოლიათს”\, რადგან მას სულ სძინავს და სძინავს… \nავტორი: ირაკლი სამსონაძე\nრეჟისორი: ანა გოგიშვილი\nმხატვარი: ანა ბედელაძე\, ელენე მეგრელიშვილი\nანიმაციის მხატვარი: ნინა გვასალია\nტექნიკური რეჟისორი: ნათია სამადაშვილი \nმონაწილეობენ:\nგიორგი ჩაჩუა\nანიკო შურღაია \nსპექტაკლი დაიდგა თბილისის მერიის ფინანსური ხელშეწყობით \nსპექტაკლის ხანგრძლივობაა 1 საათი და 10 წუთი ანტრაქტის გარეშე\nსპექტაკლის პრემიერა შედგა 2023 წლის 3 ივნისს \n\nფოტო გალერეა\nვიდეო\n\n
URL:https://iliaunitheatre.ge/event/tsitsqna-goliathi/
CATEGORIES:aphisha-2,whats-on,whats-on-2-2,აფიშა
ATTACH;FMTTYPE=image/png:https://iliaunitheatre.ge/wp-content/uploads/2023/05/774X244.png
END:VEVENT
END:VCALENDAR