BEGIN:VCALENDAR
VERSION:2.0
PRODID:-//ილიაუნის თეატრი - ECPv4.7.4//NONSGML v1.0//EN
CALSCALE:GREGORIAN
METHOD:PUBLISH
X-WR-CALNAME:ილიაუნის თეატრი
X-ORIGINAL-URL:https://iliaunitheatre.ge
X-WR-CALDESC:Events for ილიაუნის თეატრი
BEGIN:VEVENT
DTSTART;TZID=UTC+4:20231212T200000
DTEND;TZID=UTC+4:20231212T203000
DTSTAMP:20260420T173551
CREATED:20231030T100417Z
LAST-MODIFIED:20231128T103637Z
UID:15152-1702411200-1702413000@iliaunitheatre.ge
SUMMARY:დარისპანის გასაჭირი
DESCRIPTION:დავით კლდიაშვილი\, რეჟისორი: საბა ასლამაზიშვილი\n  \n1 მოქმედებად \nთქვენს წინაშეა საუკუნის წინანდელი ამბავი იმის შესახებ\, თუ როგორ დაატარებს დარისპანი ოთხი გასათხოვარი ქალიშვილიდან ერთ-ერთს წინ და უკან\, მეგობრებსა და ნათესავებში\, მოყვრებსა და მეზობლებში\, რომ როგორმე უპოვოს შესაფერისი ქმარი და უზრუნველყოს მისი მომავალი.\nეს ამბავი\, ერთდროულად  ტრაგიკული და ღიმილისმომგვრელი\, უზარმაზარი სიყვარულითაა გაჟღენთილი ქვეყნის მიმართ\, რომელსაც „ჰკლავდნენ და არ კვდებოდა“. ეს ამბავი გაჭრილი ვაშლივით ჰგავს ჩვენი ქვეყნის ბედს\, რომელიც დარისპანივით გამოსავალს სხვაგან ეძებს: სხვების დახმარებაში\, სხვაზე „მითხოვებაში“\, დალხენილი ყოფის ილუზიაში\, რომელიც ბუმერანგივით ბრუნდება და კიდევ უფრო დიდ უიმედობას იწვევს.\nრა უფრო მნიშვნელოვანია\, თავისუფლება\, თუ უზრუნველი ცხოვრება?\nრეჟისორი და მსახიობები მაყურებელთან ერთად ეცდებიან იპოვნონ გზა\, რომელიც ხელს შეუწყობს დარისპანის ოჯახის და\, ამავდროულად\, საქართველოს მომავალის გადარჩენას. \nრეჟისორი: საბა ასლამაზიშვილი\nსცენოგრაფია: მარიამ კალატოზიშვილი\nკოსტუმების მხატვარი: სანდრო მარგველაშვილი\nმუსიკალური გაფორმება: ნინო სიხარულიძე\nქორეოგრაფი: დეა აბაკელია\nაკორდეონის პედაგოგი: ივანე ხაჩიძე\nტექნიკური რეჟისორი: თამუნა კამლაძე \nმოქმედი პირნი და შემსრულებელნი:\nდარისპანი – სლავა ნათენაძე\nმართა – ლილი ხურითი\nპელაგია – მაია ხორნაული\nნატალია – ნინა ყიფშიძე\nკაროჟნა – მაშიკო თვალაბეიშვილი\nოსიკო – თორნიკე კაკულია \nსპექტაკლი დაიდგა თბილისის მერიის ფინანსური ხელშეწყობით \nსპექტაკლის ხანგრძლივობაა 1 საათი და 10 წუთი\nსპექტაკლის პრემიერა შედგა 2023 წლის 12 აპრილი \n
URL:https://iliaunitheatre.ge/event/darispanis-gasatchiri-5/
CATEGORIES:aphisha-2,whats-on,whats-on-2-2,აფიშა
ATTACH;FMTTYPE=image/png:https://iliaunitheatre.ge/wp-content/uploads/2023/04/IMG_9409.png
END:VEVENT
END:VCALENDAR