BEGIN:VCALENDAR
VERSION:2.0
PRODID:-//ილიაუნის თეატრი - ECPv4.7.4//NONSGML v1.0//EN
CALSCALE:GREGORIAN
METHOD:PUBLISH
X-WR-CALNAME:ილიაუნის თეატრი
X-ORIGINAL-URL:https://iliaunitheatre.ge
X-WR-CALDESC:Events for ილიაუნის თეატრი
BEGIN:VEVENT
DTSTART;TZID=UTC+4:20240116T180000
DTEND;TZID=UTC+4:20240116T200000
DTSTAMP:20260422T065137
CREATED:20231212T122847Z
LAST-MODIFIED:20231214T113537Z
UID:15471-1705428000-1705435200@iliaunitheatre.ge
SUMMARY:ჩარლი და შოკოლადის ქარხანა
DESCRIPTION:როალდ დალის ნაწარმოების მიხედვით\, რეჟისორი: ქეთი ასათიანი\n  \n  \n  \n  \n  \n  \nზღაპარი 1 მოქმედებად \nშობის ღამეს ყველა მეოცნებე ადამიანი სასწაულის მოლოდინშია\, პატარა ჩარლიც\, რომელიც ერთი დიდი ქალაქის განაპირას\, ხის პატარა სახლში ცხოვრობს\, ოცნებობს რომ ოდესმე მსოფლიოში უზარმაზარ შოკოლადების ქარხანაში მოხვდება \, ცნობილი ვილი ვონკას ქარხანაში\, რადგან შოკოლადი ძალიან უყვარს და მისი დაგემოვნების საშუალება\, წელიწადში მხოლოდ ერთხელ\, შობას ეძლევა\, ისიც ოჯახის წევრების დაუღალავი შრომის ფასად.\nრას უმზადებს ბედი ჩარლის?! ვის შეხვდება ვილი ვონკას შოკოლადების ქარხანაში შესასვლელი ოქროს ბარათი და ვინ მიიღებს მთავარ ჯილდოს?!\nშობას ხომ ყველა ოცნება უნდა ახდეს! \nრეჟისორი: ქეთი ასათიანი\nმხატვარი: ლიზა ჭიჭინაძე\nმუსიკალური გამფორმებელი: ნინო სიხარულიძე\nტექნიკური რეჟისორი: ლენი ფანჯავიძე \nმოქმედი პირნი და შემსრულებელნი: \nვილი-ვონკა – ანდრია ვაჭრიძე\nბაბუა ჯო – კოტე ჯოხაძე\nბებია ჯორჯიანა – მაკა ძაგანია\nჩარლი ბაკეტი – საბა ქვლივიძე\nვერუკა სოლტი – ელენე ჭავჭავაძე\nმაიკ ტივი – ოთო სიხარულიძე\nვიოლეტ ბორეჟანი – თუთი ნადირაძე\nდედა\, მოქალაქე – თათუ უშვერიძე\nდედა\, მოქალაქე – ნინი მაჭავარიანი \nუმპა-ლუმპები: (ილიას სახელმწიფო უნივერსიტეტის სტუდენტები) \nნიკალაი ამოევი\, ელენე კაპანაძე\, გიორგი მარტინენკო\, შაკო ფაილოძე\, გვანცა ჩუბინაშვილი\,\nჟურნალისტები – ეკუნა ლაბაძე\, დანიელ პირველი \nსპექტაკლის სპონსორია ლოკო-მოკო   \n სპექტაკლის პრემიერა შედგა 2023 წლის 28 დეკემბერს\nსპექტაკლის ხანგრძლივობაა 1 საათი ანტრაქტის გარეშე \n
URL:https://iliaunitheatre.ge/event/charli-da-shokoladis-qarkhana-10/
ATTACH;FMTTYPE=image/png:https://iliaunitheatre.ge/wp-content/uploads/2023/12/774244-1.png
END:VEVENT
END:VCALENDAR