BEGIN:VCALENDAR
VERSION:2.0
PRODID:-//ილიაუნის თეატრი - ECPv4.7.4//NONSGML v1.0//EN
CALSCALE:GREGORIAN
METHOD:PUBLISH
X-WR-CALNAME:ილიაუნის თეატრი
X-ORIGINAL-URL:https://iliaunitheatre.ge/?lang=en
X-WR-CALDESC:Events for ილიაუნის თეატრი
BEGIN:VEVENT
DTSTART;TZID=UTC+4:20260515T200000
DTEND;TZID=UTC+4:20260515T200000
DTSTAMP:20260424T160918
CREATED:20260424T100900Z
LAST-MODIFIED:20260424T100900Z
UID:16186-1778875200-1778875200@iliaunitheatre.ge
SUMMARY:Miss Julie
DESCRIPTION:Psychological Drama in One Act \nWhat happens to people when they become prisoners of their own childhood?\nAugust Strindberg’s psychological drama tells the story of the inner turmoil of a young woman “Miss Julie” whose soul has been shaped by gender stereotypes\, lack of love\, uncontrollable passion\, and deep-rooted complexes. \nBut the question remains: will this aristocratic woman ever find a way out? \nDirector of Production: Ioane (Vano) KhutsishviliDirector: Eva GvritishviliSet Designers: Tina Gobejishvili\, Anastasia ChubinidzeChoreographer: Tata TavdishviliTechnical Director: Gvantsa BitsadzeProject Manager: Anano Arobelidze \nCast:Miss Julie – Tea AlphadzeJean – Papuna IremadzeChristine – Tamar Qalabegashvili \nThe performance was produced with the financial support of the Tbilisi City Hall\nDuration: 1 hour and 30 minutesPremiere Date: October 1\, 2025 \n
URL:https://iliaunitheatre.ge/event/miss-julie-4/?lang=en
CATEGORIES:aphisha-2,aphisha-2-2-2,aphisha-2-2-2-2-2,whats-on,whats-on-2-2,whats-on-2-2-2-2,whats-on-2-2-2-2-2-2
END:VEVENT
END:VCALENDAR